BEGIN:VCALENDAR
VERSION:2.0
PRODID:-//GLSC//Events//EN
CALSCALE:GREGORIAN
METHOD:PUBLISH
X-WR-CALNAME:2026 Peanut Regatta &#8211\; Race 2
BEGIN:VEVENT
UID:glsc-1855-20260425T060000@grandlakesailingclub.com
DTSTAMP:20260425T140444Z
DTSTART;VALUE=DATE:20260425
DTEND;VALUE=DATE:20260426
SUMMARY:2026 Peanut Regatta &#8211\; Race 2
DESCRIPTION:Welcome to the 2026 GLSC Peanut Regatta! Fun\, flexible racing 
 on Grand Lake with real-time tracking and easy scoring. Each boat receives 
 a handicap and a join link. Racing is tracked with the Regatta Hero app (
 iOS &amp\; Android)\, which also powers live viewing from home or the clubh
 ouse.   How it works…\n\nhttps://grandlakesailingclub.com/event/2026-pe
 anut-regatta-race-2/
LOCATION:Grand Lake Sailing Club\, Grove\, OK
URL:https://grandlakesailingclub.com/event/2026-peanut-regatta-race-2/
END:VEVENT
END:VCALENDAR
