BEGIN:VCALENDAR
VERSION:2.0
PRODID:-//GLSC//Events//EN
CALSCALE:GREGORIAN
METHOD:PUBLISH
X-WR-CALNAME:Friday Night Social
BEGIN:VEVENT
UID:glsc-1784-20260123T180000@grandlakesailingclub.com
DTSTAMP:20260420T021200Z
DTSTART:20260124T000000Z
DTEND:20260124T030000Z
SUMMARY:Friday Night Social
DESCRIPTION:Unwind at the clubhouse and deck as we roll into the weekend to
 gether. Expect easy conversation\, lake sunsets\, and the occasional acoust
 ic jam as guitars and stories come out. It’s casual. Swing by after work 
 or stay awhile and talk sailing plans\, race recaps\, and what’s happenin
 g around the club.…\n\nhttps://grandlakesailingclub.com/event/friday-nigh
 t-social/
LOCATION:Grand Lake Sailing Club\, Grove\, OK
URL:https://grandlakesailingclub.com/event/friday-night-social/
END:VEVENT
END:VCALENDAR
