BEGIN:VCALENDAR
VERSION:2.0
PRODID:-//GLSC//Events//EN
CALSCALE:GREGORIAN
METHOD:PUBLISH
X-WR-CALNAME:Fun Flotilla
BEGIN:VEVENT
UID:glsc-1850-20260502T090000@grandlakesailingclub.com
DTSTAMP:20260425T140730Z
DTSTART;VALUE=DATE:20260502
DTEND;VALUE=DATE:20260503
SUMMARY:Fun Flotilla
DESCRIPTION:Easygoing\, low-stress sailing for anyone who wants time on the
  water without the pressure of a formal race. GLSC Fun Flotillas set a si
 mple course\, then we all head out together\, compare notes back at the doc
 k\, and call it a good day on Grand Lake. How it works When: Every other 
 Saturday - check…\n\nhttps://grandlakesailingclub.com/event/fun-flotilla
 -2/
LOCATION:Grand Lake Sailing Club\, Grove\, OK
URL:https://grandlakesailingclub.com/event/fun-flotilla-2/
END:VEVENT
END:VCALENDAR
